BEGIN:VCALENDAR
VERSION:2.0
PRODID:icalendar-ruby
CALSCALE:GREGORIAN
METHOD:PUBLISH
BEGIN:VEVENT
DTSTAMP:20260422T134930Z
UID:507-934258@pccowboychurch.org
DTSTART:20260423T190000Z
DTEND:20260423T200000Z
CLASS:PUBLIC
CREATED:20260421T105043
DESCRIPTION:
LAST-MODIFIED:20260421T105043
LOCATION:Parker County Cowboy Church
SUMMARY:Funeral Service for Judy Thouvenel
URL;VALUE=URI:https://www.pccowboychurch.org/events/funeral-service-for-jud
 y-thouvenel/2026-04-23
ATTACH;FILENAME=Memorial service.webp;FMTTYPE=image/webp:https://dq5pwpg1q8
 ru0.cloudfront.net/2026/04/21/15/49/05/a64cefa7-6f21-4fb7-a1aa-b6f35c49086
 1/Memorial%20service.webp
END:VEVENT
END:VCALENDAR
